BEGIN:VCALENDAR
VERSION:2.0
PRODID:-//104.196.154.229//NONSGML kigkonsult.se iCalcreator 2.26.9//
CALSCALE:GREGORIAN
METHOD:PUBLISH
X-FROM-URL:https://interlinktraining.com.au
X-WR-TIMEZONE:Australia/Melbourne
BEGIN:VTIMEZONE
TZID:Australia/Melbourne
X-LIC-LOCATION:Australia/Melbourne
BEGIN:STANDARD
DTSTART:20200405T030000
TZOFFSETFROM:+1100
TZOFFSETTO:+1000
RDATE:20210404T030000
TZNAME:AEST
END:STANDARD
BEGIN:DAYLIGHT
DTSTART:20191006T020000
TZOFFSETFROM:+1000
TZOFFSETTO:+1100
RDATE:20201004T020000
TZNAME:AEDT
END:DAYLIGHT
END:VTIMEZONE
BEGIN:VEVENT
UID:ai1ec-1839@interlinktraining.com.au
DTSTAMP:20200229T144246Z
CATEGORIES;LANGUAGE=en-US:Queensland\,Tasmania\,Victoria\,Western Australia
CONTACT:Samantha Hayes\; 1300 731 669\; samh@interlinktraining.com.au
DESCRIPTION:Taking Enrolments Now for Cert II ESI \nin Victoria\, Western A
 ustralia\, Queensland and Tasmania\n \nFor more information about this qua
 lification please click here\n\n \nTo enquire and make a booking please vi
 sit our Contact Us page here\nAsk our friendly staff about Government Fund
 ed Training and Employer Incentives for this course
DTSTART;VALUE=DATE:20200224
DTEND;VALUE=DATE:20200225
LOCATION:Victoria\, Queensland\, Western Australia and Tasmania
RRULE:FREQ=WEEKLY;BYDAY=MO;WKST=MO
SEQUENCE:0
SUMMARY:Certificate II in ESI – Powerline Vegetation Control
URL:https://interlinktraining.com.au/event/certificate-ii-in-esi-powerline-
 vegetation-control/
X-COST-TYPE:free
X-ALT-DESC;FMTTYPE=text/html:<!DOCTYPE HTML PUBLIC '-//W3C//DTD HTML 3.2//E
 N'>\\n<HTML>\\n<HEAD>\\n<TITLE></TITLE>\\n</HEAD>\\n<BODY><h1 style='text-
 align: center\;'><strong>Taking Enrolments Now for Cert II ESI </strong></
 h1>\n<h3 style='text-align: center\;'>in Victoria\, Western Australia\, Qu
 eensland and Tasmania</h3>\n<p> </p>\n<h4 style='text-align: center\;'>For
  more information about this qualification please click <a href='https://i
 nterlinktraining.com.au/electrical-sector/certificate-ii-in-esi-powerline-
 vegetation-control-uet20312/'>here</a></h4>\n<h4></h4>\n<p> </p>\n<h4 styl
 e='text-align: center\;'>To enquire and make a booking please visit our Co
 ntact Us page <a href='https://interlinktraining.com.au/contact-us/'>here<
 /a></h4>\n<p style='text-align: center\;'><em>Ask our friendly staff about
  Government Funded Training and Employer Incentives for this course</em></
 p>\n</BODY></HTML>
END:VEVENT
BEGIN:VEVENT
UID:ai1ec-1838@interlinktraining.com.au
DTSTAMP:20200229T144246Z
CATEGORIES;LANGUAGE=en-US:Queensland\,Tasmania\,Victoria\,Western Australia
CONTACT:Samantha Hayes\; 1300 731 669\; samh@interlinktraining.com.au
DESCRIPTION:Taking Enrolments Now for Cert III Arboriculture \nin Victoria\
 , Queensland\, Western Australia and Tasmania\n\n \nFor more information a
 bout this qualification please click here \n\n \nTo enquire and make a boo
 king please visit our Contact Us page here \nAsk our friendly staff about 
 Government Funded Training and Employer Incentives for this course\n 
DTSTART;VALUE=DATE:20200224
DTEND;VALUE=DATE:20200225
LOCATION:Victoria\, Queensland\, Western Australia\, Tasmania
RRULE:FREQ=WEEKLY;BYDAY=MO;WKST=MO
SEQUENCE:0
SUMMARY:Certificate III in Arboriculture
URL:https://interlinktraining.com.au/event/certificate-iii-in-arboriculture
 /
X-COST-TYPE:free
X-ALT-DESC;FMTTYPE=text/html:<!DOCTYPE HTML PUBLIC '-//W3C//DTD HTML 3.2//E
 N'>\\n<HTML>\\n<HEAD>\\n<TITLE></TITLE>\\n</HEAD>\\n<BODY><h1 style='text-
 align: center\;'><strong>Taking Enrolments Now for Cert III Arboriculture 
 </strong></h1>\n<h3 style='text-align: center\;'>in Victoria\, Queensland\
 , Western Australia and Tasmania</h3>\n<h4></h4>\n<p> </p>\n<h4 style='tex
 t-align: center\;'>For more information about this qualification please cl
 ick <a href='https://interlinktraining.com.au/arboriculture-horticulture/c
 ertificate-iii-in-arboriculture-ahc30816/'>here </a></h4>\n<h4></h4>\n<p> 
 </p>\n<h4 style='text-align: center\;'>To enquire and make a booking pleas
 e visit our Contact Us page <a href='https://interlinktraining.com.au/cont
 act-us/'>here </a></h4>\n<p style='text-align: center\;'><em>Ask our frien
 dly staff about Government Funded Training and Employer Incentives for thi
 s course</em></p>\n<p> </p>\n</BODY></HTML>
END:VEVENT
BEGIN:VEVENT
UID:ai1ec-1423@interlinktraining.com.au/DevSite/interlinktraining
DTSTAMP:20200229T144246Z
CATEGORIES;LANGUAGE=en-US:Victoria
CONTACT:Interlink Knoxfield\; 03 9759 9033\; southernbookings@interlinktrai
 ning.com.au
DESCRIPTION:Complete the full Power Awareness Course in just 3 days!\nDay 1
 :\nICTWHS203 – Work Safely Near Power Infrastructure\nOM-TN-009 – Optus Te
 chnical Notice\nUETTDREL14A – Work Safely Near Live Electrical Apparatus a
 s a Non Electrical Worker\nDay 2:\nHLTAID001– Provide Cardiopulmonary Resu
 scitation\nUETTDRRF10B – Provide First Aid in an ESI Environment\nHLTAID00
 3 – Provide First Aid\nDay 3:\nVESI – Safe to Climb\nUETTDRRF03B – Perform
  EWP Rescue\nUETTDRRF08B – Perform EWP Controlled Descent Escape\nUETTDRRF
 02B – Perform Pole Top Rescue\nRIIWHS204D – Working Safely at Heights (Opt
 ional)\n \n*Please Note* This course is subject to change and requires min
 imum numbers to run\nFor more information or to book this course please vi
 sit Contact Us 
DTSTART;TZID=Australia/Melbourne:20190723T073000
DTEND;TZID=Australia/Melbourne:20190725T153000
LOCATION:Interlink Knoxfield\, Victoria @ 31 Henderson Road Knoxfield VIC 3
 180
RDATE;TZID=Australia/Melbourne:20190806T073000
RDATE;TZID=Australia/Melbourne:20190820T073000
RDATE;TZID=Australia/Melbourne:20190903T073000
RDATE;TZID=Australia/Melbourne:20190917T073000
RDATE;TZID=Australia/Melbourne:20191016T073000
RDATE;TZID=Australia/Melbourne:20191112T073000
RDATE;TZID=Australia/Melbourne:20191126T073000
RDATE;TZID=Australia/Melbourne:20191210T073000
RDATE;TZID=Australia/Melbourne:20200303T073000
RDATE;TZID=Australia/Melbourne:20200324T073000
RDATE;TZID=Australia/Melbourne:20200407T073000
RDATE;TZID=Australia/Melbourne:20200420T073000
SEQUENCE:0
SUMMARY:Power Awareness Initial
URL:https://interlinktraining.com.au/event/power-awareness-initial/
X-COST-TYPE:free
X-ALT-DESC;FMTTYPE=text/html:<!DOCTYPE HTML PUBLIC '-//W3C//DTD HTML 3.2//E
 N'>\\n<HTML>\\n<HEAD>\\n<TITLE></TITLE>\\n</HEAD>\\n<BODY><p>Complete the 
 full Power Awareness Course in just 3 days!</p>\n<p><strong>Day 1:</strong
 ></p>\n<p><strong>ICTWHS203</strong> – Work Safely Near Power Infrastructu
 re</p>\n<p><strong>OM-TN-009</strong> – Optus Technical Notice</p>\n<p><st
 rong>UETTDREL14A</strong> – Work Safely Near Live Electrical Apparatus as 
 a Non Electrical Worker</p>\n<p><strong>Day 2:</strong></p>\n<p><strong>HL
 TAID001</strong>– Provide Cardiopulmonary Resuscitation</p>\n<p><strong>UE
 TTDRRF10B</strong> – Provide First Aid in an ESI Environment</p>\n<p><stro
 ng>HLTAID003</strong> – Provide First Aid</p>\n<p><strong>Day 3:</strong><
 /p>\n<p><strong>VESI</strong> – Safe to Climb</p>\n<p><strong>UETTDRRF03B<
 /strong> – Perform EWP Rescue</p>\n<p><strong>UETTDRRF08B</strong> – Perfo
 rm EWP Controlled Descent Escape</p>\n<p><strong>UETTDRRF02B</strong> – Pe
 rform Pole Top Rescue</p>\n<p><strong>RIIWHS204D</strong> – Working Safely
  at Heights (Optional)</p>\n<p> </p>\n<p>*Please Note* This course is subj
 ect to change and requires minimum numbers to run</p>\n<p>For more informa
 tion or to book this course please visit <a href='https://interlinktrainin
 g.com.au/contact-us/'>Contact Us </a></p>\n</BODY></HTML>
END:VEVENT
BEGIN:VEVENT
UID:ai1ec-1420@interlinktraining.com.au/DevSite/interlinktraining
DTSTAMP:20200229T144246Z
CATEGORIES;LANGUAGE=en-US:Victoria
CONTACT:Interlink Knoxfield\; 03 9759 9033\; southernbookings@interlinktrai
 ning.com.au
DESCRIPTION:Complete your Power Awareness Refresher in just 1 day!\n*PLEASE
  NOTE*\n-All students must have completed all units listed below within th
 e last 12 months to be eligible for a refresher course. Prior certificates
  must be provided when requesting booking.\n-This course is subject to cha
 nge and requires minimum numbers to run.\nUnits Covered:\nICTWHS203 – Work
  Safely Near Power Infrastructure\nOM-TN-009 – Optus Technical Notice\nUET
 TDREL14A – Working Safely Near Live Electrical Apparatus as a Non Electric
 al Worker\nHLTAID001 – Provide Cardiopulmonary Resuscitation\nUETTDRRF10B 
 – Provide First Aid in an ESI Environment\nUETTDRRF02B – Perform Pole Top 
 Rescue\nVESI – Safe to Climb\nUETTDRRF08B – Perform EWP Controlled Descent
  Escape\nUETTDRRF03B – Perform EWP Rescue\nFor more information or to book
  this course please visit Contact Us 
DTSTART;TZID=Australia/Melbourne:20190730T073000
DTEND;TZID=Australia/Melbourne:20190730T153000
LOCATION:Interlink Knoxfield\, Victoria @ 31 Henderson Road Knoxfield 3180
RDATE;TZID=Australia/Melbourne:20190807T073000
RDATE;TZID=Australia/Melbourne:20190821T073000
RDATE;TZID=Australia/Melbourne:20190904T073000
RDATE;TZID=Australia/Melbourne:20190916T073000
RDATE;TZID=Australia/Melbourne:20191001T073000
RDATE;TZID=Australia/Melbourne:20191016T073000
RDATE;TZID=Australia/Melbourne:20191111T073000
RDATE;TZID=Australia/Melbourne:20191127T073000
RDATE;TZID=Australia/Melbourne:20191211T073000
RDATE;TZID=Australia/Melbourne:20200116T073000
RDATE;TZID=Australia/Melbourne:20200122T073000
RDATE;TZID=Australia/Melbourne:20200129T073000
RDATE;TZID=Australia/Melbourne:20200212T073000
RDATE;TZID=Australia/Melbourne:20200228T073000
RDATE;TZID=Australia/Melbourne:20200310T073000
RDATE;TZID=Australia/Melbourne:20200325T073000
RDATE;TZID=Australia/Melbourne:20200408T073000
RDATE;TZID=Australia/Melbourne:20200422T073000
RDATE;TZID=Australia/Melbourne:20200506T073000
RDATE;TZID=Australia/Melbourne:20200520T073000
RDATE;TZID=Australia/Melbourne:20200604T073000
RDATE;TZID=Australia/Melbourne:20200617T073000
RDATE;TZID=Australia/Melbourne:20200702T073000
RDATE;TZID=Australia/Melbourne:20200715T073000
RDATE;TZID=Australia/Melbourne:20200729T073000
RDATE;TZID=Australia/Melbourne:20200812T073000
RDATE;TZID=Australia/Melbourne:20200826T073000
RDATE;TZID=Australia/Melbourne:20200909T073000
RDATE;TZID=Australia/Melbourne:20200923T073000
RDATE;TZID=Australia/Melbourne:20201007T073000
RDATE;TZID=Australia/Melbourne:20201020T073000
RDATE;TZID=Australia/Melbourne:20201104T073000
RDATE;TZID=Australia/Melbourne:20201118T073000
RDATE;TZID=Australia/Melbourne:20201202T073000
RDATE;TZID=Australia/Melbourne:20201217T073000
SEQUENCE:0
SUMMARY:Power Awareness Refresher
URL:https://interlinktraining.com.au/event/power-awareness-refresher/
X-COST-TYPE:free
X-ALT-DESC;FMTTYPE=text/html:<!DOCTYPE HTML PUBLIC '-//W3C//DTD HTML 3.2//E
 N'>\\n<HTML>\\n<HEAD>\\n<TITLE></TITLE>\\n</HEAD>\\n<BODY><p>Complete your
  Power Awareness Refresher in just 1 day!</p>\n<p>*PLEASE NOTE*</p>\n<p>-A
 ll students <strong>must </strong>have completed all units listed below wi
 thin the last 12 months to be eligible for a refresher course. Prior certi
 ficates must be provided when requesting booking.</p>\n<p>-This course is 
 subject to change and requires minimum numbers to run.</p>\n<p>Units Cover
 ed:</p>\n<p><strong>ICTWHS203 –</strong> Work Safely Near Power Infrastruc
 ture</p>\n<p><strong>OM-TN-009 –</strong> Optus Technical Notice</p>\n<p><
 strong>UETTDREL14A –</strong> Working Safely Near Live Electrical Apparatu
 s as a Non Electrical Worker</p>\n<p><strong>HLTAID001 –</strong> Provide 
 Cardiopulmonary Resuscitation</p>\n<p><strong>UETTDRRF10B –</strong> Provi
 de First Aid in an ESI Environment</p>\n<p><strong>UETTDRRF02B –</strong> 
 Perform Pole Top Rescue</p>\n<p><strong>VESI –</strong> Safe to Climb</p>
 \n<p><strong>UETTDRRF08B –</strong> Perform EWP Controlled Descent Escape<
 /p>\n<p><strong>UETTDRRF03B –</strong> Perform EWP Rescue</p>\n<p>For more
  information or to book this course please visit <a href='https://interlin
 ktraining.com.au/contact-us/'>Contact Us </a></p>\n</BODY></HTML>
END:VEVENT
BEGIN:VEVENT
UID:ai1ec-1591@interlinktraining.com.au
DTSTAMP:20200229T144246Z
CATEGORIES;LANGUAGE=en-US:Queensland
CONTACT:Interlink Loganholme\; 07 3209 6466\; northernbookings@interlinktra
 ining.com.au
DESCRIPTION:*Please Note* This course is subject to change and requires min
 imum numbers to run\nHLTAID001 – Provide CPR\nUETTDRRF03B – Perform EWP Re
 scue\nUETTDRRF08B – Perform EWP Controlled Descent Escape\nUETTDRRF02B – P
 erform Pole Top Rescue\nUETTDRRF06B – Perform Rescue from Live LV Panel\nM
 292 – Energex Polarity\nFor more information or to book this course please
  visit Contact Us 
DTSTART;TZID=Australia/Melbourne:20190801T073000
DTEND;TZID=Australia/Melbourne:20190801T113000
LOCATION:Interlink Loganholme\, Queensland @ 51 Chetwynd Street Loganholme
RDATE;TZID=Australia/Melbourne:20190808T073000
RDATE;TZID=Australia/Melbourne:20190827T073000
RDATE;TZID=Australia/Melbourne:20190910T073000
RDATE;TZID=Australia/Melbourne:20190924T073000
RDATE;TZID=Australia/Melbourne:20191007T073000
RDATE;TZID=Australia/Melbourne:20191021T073000
RDATE;TZID=Australia/Melbourne:20191105T073000
RDATE;TZID=Australia/Melbourne:20191119T073000
RDATE;TZID=Australia/Melbourne:20191203T073000
RDATE;TZID=Australia/Melbourne:20191217T073000
SEQUENCE:0
SUMMARY:Public Refreshers
URL:https://interlinktraining.com.au/event/public-refreshers/
X-COST-TYPE:free
X-ALT-DESC;FMTTYPE=text/html:<!DOCTYPE HTML PUBLIC '-//W3C//DTD HTML 3.2//E
 N'>\\n<HTML>\\n<HEAD>\\n<TITLE></TITLE>\\n</HEAD>\\n<BODY><p>*Please Note*
  This course is subject to change and requires minimum numbers to run</p>
 \n<p><strong>HLTAID001</strong> – Provide CPR</p>\n<p><strong>UETTDRRF03B<
 /strong> – Perform EWP Rescue</p>\n<p><strong>UETTDRRF08B</strong> – Perfo
 rm EWP Controlled Descent Escape</p>\n<p><strong>UETTDRRF02B</strong> – Pe
 rform Pole Top Rescue</p>\n<p><strong>UETTDRRF06B</strong> – Perform Rescu
 e from Live LV Panel</p>\n<p><strong>M292</strong> – Energex Polarity</p>
 \n<p>For more information or to book this course please visit <a href='htt
 ps://interlinktraining.com.au/contact-us/'>Contact Us </a></p>\n</BODY></H
 TML>
END:VEVENT
BEGIN:VEVENT
UID:ai1ec-1597@interlinktraining.com.au
DTSTAMP:20200229T144246Z
CATEGORIES;LANGUAGE=en-US:Victoria
CONTACT:Interlink Knoxfield\; 03 9759 9033\; southernbookings@interlinktrai
 ning.com.au
DESCRIPTION:*Please Note* This course is subject to change and requires min
 imum numbers to run\nUnits covered:\nHLTAID001 – Cardiopulmonary Resuscita
 tion (CPR)\nHLTAID003 – Apply First Aid\nUETTDRRF10B – Provide First Aid i
 n an ESI Environment\nFor more information or to book this course please v
 isit Contact Us 
DTSTART;TZID=Australia/Melbourne:20190807T073000
DTEND;TZID=Australia/Melbourne:20190807T153000
LOCATION:Interlink Knoxfield\, Victoria @ 31 Henderson Road Knoxfield
RDATE;TZID=Australia/Melbourne:20190821T073000
RDATE;TZID=Australia/Melbourne:20190904T073000
RDATE;TZID=Australia/Melbourne:20190918T073000
RDATE;TZID=Australia/Melbourne:20191016T073000
RDATE;TZID=Australia/Melbourne:20191030T073000
RDATE;TZID=Australia/Melbourne:20191113T073000
RDATE;TZID=Australia/Melbourne:20191127T073000
RDATE;TZID=Australia/Melbourne:20191211T073000
SEQUENCE:0
SUMMARY:First Aid Training
URL:https://interlinktraining.com.au/event/first-aid-training/
X-COST-TYPE:free
X-ALT-DESC;FMTTYPE=text/html:<!DOCTYPE HTML PUBLIC '-//W3C//DTD HTML 3.2//E
 N'>\\n<HTML>\\n<HEAD>\\n<TITLE></TITLE>\\n</HEAD>\\n<BODY><p>*Please Note*
  This course is subject to change and requires minimum numbers to run</p>
 \n<p>Units covered:</p>\n<p><strong>HLTAID001</strong> – Cardiopulmonary R
 esuscitation (CPR)</p>\n<p><strong>HLTAID003</strong> – Apply First Aid</p
 >\n<p><strong>UETTDRRF10B</strong> – Provide First Aid in an ESI Environme
 nt</p>\n<p>For more information or to book this course please visit <a hre
 f='https://interlinktraining.com.au/contact-us/'>Contact Us </a></p>\n</BO
 DY></HTML>
END:VEVENT
BEGIN:VEVENT
UID:ai1ec-1589@interlinktraining.com.au
DTSTAMP:20200229T144246Z
CATEGORIES;LANGUAGE=en-US:Queensland
CONTACT:Interlink Loganholme\; 07 3209 6466\; northernbookings@interlinktra
 ining.com.au
DESCRIPTION:*Please Note* this course is subject to change and requires min
 imum numbers to run\nFor more information or to book this course please vi
 sit Contact Us 
DTSTART;TZID=Australia/Melbourne:20190807T073000
DTEND;TZID=Australia/Melbourne:20190807T153000
LOCATION:Interlink Loganholme\, Queensland @ 51 Chetwynd Street Loganholme 
 QLD 4129
RDATE;TZID=Australia/Melbourne:20190828T073000
RDATE;TZID=Australia/Melbourne:20190923T073000
RDATE;TZID=Australia/Melbourne:20191009T073000
RDATE;TZID=Australia/Melbourne:20191030T073000
RDATE;TZID=Australia/Melbourne:20191120T073000
RDATE;TZID=Australia/Melbourne:20191216T073000
SEQUENCE:0
SUMMARY:Safe Work Near Live Electrical Lines & Apparatus (SWNELP)
URL:https://interlinktraining.com.au/event/safe-work-near-live-electrical-l
 ines-apparatus-swnelp/
X-COST-TYPE:free
X-ALT-DESC;FMTTYPE=text/html:<!DOCTYPE HTML PUBLIC '-//W3C//DTD HTML 3.2//E
 N'>\\n<HTML>\\n<HEAD>\\n<TITLE></TITLE>\\n</HEAD>\\n<BODY><p>*Please Note*
  this course is subject to change and requires minimum numbers to run</p>
 \n<p>For more information or to book this course please visit <a href='htt
 ps://interlinktraining.com.au/contact-us/'>Contact Us </a></p>\n</BODY></H
 TML>
END:VEVENT
BEGIN:VEVENT
UID:ai1ec-1592@interlinktraining.com.au
DTSTAMP:20200229T144246Z
CATEGORIES;LANGUAGE=en-US:Queensland
CONTACT:Interlink Loganholme\; 07 3209 6466\; northernbookings@interlinktra
 ining.com.au
DESCRIPTION:Please contact the team at Interlink Loganholme for more inform
 ation regarding this course.\nContact Us
DTSTART;TZID=Australia/Melbourne:20190808T113000
DTEND;TZID=Australia/Melbourne:20190808T153000
LOCATION:Interlink Loganholme\, Queensland @ 51 Chetwynd Street Loganholme
RDATE;TZID=Australia/Melbourne:20190808T113000
RDATE;TZID=Australia/Melbourne:20190827T113000
RDATE;TZID=Australia/Melbourne:20190910T113000
RDATE;TZID=Australia/Melbourne:20190924T113000
RDATE;TZID=Australia/Melbourne:20191007T113000
RDATE;TZID=Australia/Melbourne:20191021T113000
RDATE;TZID=Australia/Melbourne:20191105T113000
RDATE;TZID=Australia/Melbourne:20191119T113000
RDATE;TZID=Australia/Melbourne:20191203T113000
RDATE;TZID=Australia/Melbourne:20191217T113000
SEQUENCE:0
SUMMARY:Public Initial Training
URL:https://interlinktraining.com.au/event/public-initial-training/
X-COST-TYPE:free
X-ALT-DESC;FMTTYPE=text/html:<!DOCTYPE HTML PUBLIC '-//W3C//DTD HTML 3.2//E
 N'>\\n<HTML>\\n<HEAD>\\n<TITLE></TITLE>\\n</HEAD>\\n<BODY><p>Please contac
 t the team at Interlink Loganholme for more information regarding this cou
 rse.</p>\n<p><a href='https://interlinktraining.com.au/contact-us/'>Contac
 t Us</a></p>\n</BODY></HTML>
END:VEVENT
BEGIN:VEVENT
UID:ai1ec-1595@interlinktraining.com.au
DTSTAMP:20200229T144246Z
CATEGORIES;LANGUAGE=en-US:Queensland
CONTACT:Interlink Loganholme\; 07 3209 6466\; northernbookings@interlinktra
 ining.com.au
DESCRIPTION:*Please Note* This course is subject to change and requires min
 imum numbers to run\nUnits Covered:\nRIIWHS204D- Working Safely @ Heights
 \nUETTDRRF02B- Pole Top Rescue\nHLTAID001- Cardiopulmonary Resuscitation\n
 For more information or to book this course please visit Contact Us \n \n 
DTSTART;TZID=Australia/Melbourne:20190814T073000
DTEND;TZID=Australia/Melbourne:20190814T153000
LOCATION:Interlink Loganholme @ 51 Chetwynd Street Loganholme
RDATE;TZID=Australia/Melbourne:20190814T073000
RDATE;TZID=Australia/Melbourne:20190904T073000
RDATE;TZID=Australia/Melbourne:20190925T073000
RDATE;TZID=Australia/Melbourne:20191011T073000
RDATE;TZID=Australia/Melbourne:20191106T073000
RDATE;TZID=Australia/Melbourne:20191127T073000
RDATE;TZID=Australia/Melbourne:20191218T073000
SEQUENCE:0
SUMMARY:Working Safely @ Heights\, Pole Top Rescue\, CPR Initial Training
URL:https://interlinktraining.com.au/event/working-safely-heights-pole-top-
 rescue-cpr-initial-training/
X-COST-TYPE:free
X-ALT-DESC;FMTTYPE=text/html:<!DOCTYPE HTML PUBLIC '-//W3C//DTD HTML 3.2//E
 N'>\\n<HTML>\\n<HEAD>\\n<TITLE></TITLE>\\n</HEAD>\\n<BODY><p>*Please Note*
  This course is subject to change and requires minimum numbers to run</p>
 \n<p>Units Covered:</p>\n<p><strong>RIIWHS204D-</strong> Working Safely @ 
 Heights</p>\n<p><strong>UETTDRRF02B-</strong> Pole Top Rescue</p>\n<p><str
 ong>HLTAID001-</strong> Cardiopulmonary Resuscitation</p>\n<p>For more inf
 ormation or to book this course please visit <a href='https://interlinktra
 ining.com.au/contact-us/'>Contact Us </a></p>\n<p> </p>\n<p> </p>\n</BODY>
 </HTML>
END:VEVENT
BEGIN:VEVENT
UID:ai1ec-1594@interlinktraining.com.au
DTSTAMP:20200229T144246Z
CATEGORIES;LANGUAGE=en-US:Queensland
CONTACT:Interlink Loganholme\; 07 3209 6466\; northernbookings@interlinktra
 ining.com.au
DESCRIPTION:Complete your Power Awareness Refresher in just 1 day!\n*PLEASE
  NOTE*\n-All students must have completed all units listed below within th
 e last 12 months to be eligible for a refresher course. Prior certificates
  must be provided when requesting booking.\n-This course is subject to cha
 nge and requires minimum numbers to run.\nUnits Covered:\nICTWHS203 – Work
  Safely Near Power Infrastructure\nOM-TN-009 – Optus Technical Notice\nUET
 TDREL14A – Working Safely Near Live Electrical Apparatus as a Non Electric
 al Worker\nHLTAID001 – Provide Cardiopulmonary Resuscitation\nUETTDRRF10B 
 – Provide First Aid in an ESI Environment\nUETTDRRF02B – Perform Pole Top 
 Rescue\nVESI – Safe to Climb\nUETTDRRF08B – Perform EWP Controlled Descent
  Escape\nUETTDRRF03B – Perform EWP Rescue\nFor more information or to book
  this course please visit Contact Us 
DTSTART;TZID=Australia/Melbourne:20190815T073000
DTEND;TZID=Australia/Melbourne:20190815T153000
LOCATION:Interlink Loganholme\, Queensland @ 51 Chetwynd Street Loganholme
RDATE;TZID=Australia/Melbourne:20190815T073000
RDATE;TZID=Australia/Melbourne:20190822T073000
RDATE;TZID=Australia/Melbourne:20190919T073000
RDATE;TZID=Australia/Melbourne:20191017T073000
RDATE;TZID=Australia/Melbourne:20191114T073000
RDATE;TZID=Australia/Melbourne:20191212T073000
SEQUENCE:0
SUMMARY:Power Awareness Refresher
URL:https://interlinktraining.com.au/event/power-awareness-refresher-2/
X-COST-TYPE:free
X-ALT-DESC;FMTTYPE=text/html:<!DOCTYPE HTML PUBLIC '-//W3C//DTD HTML 3.2//E
 N'>\\n<HTML>\\n<HEAD>\\n<TITLE></TITLE>\\n</HEAD>\\n<BODY><p>Complete your
  Power Awareness Refresher in just 1 day!</p>\n<p>*PLEASE NOTE*</p>\n<p>-A
 ll students <strong>must </strong>have completed all units listed below wi
 thin the last 12 months to be eligible for a refresher course. Prior certi
 ficates must be provided when requesting booking.</p>\n<p>-This course is 
 subject to change and requires minimum numbers to run.</p>\n<p>Units Cover
 ed:</p>\n<p><strong>ICTWHS203 –</strong> Work Safely Near Power Infrastruc
 ture</p>\n<p><strong>OM-TN-009 –</strong> Optus Technical Notice</p>\n<p><
 strong>UETTDREL14A –</strong> Working Safely Near Live Electrical Apparatu
 s as a Non Electrical Worker</p>\n<p><strong>HLTAID001 –</strong> Provide 
 Cardiopulmonary Resuscitation</p>\n<p><strong>UETTDRRF10B –</strong> Provi
 de First Aid in an ESI Environment</p>\n<p><strong>UETTDRRF02B –</strong> 
 Perform Pole Top Rescue</p>\n<p><strong>VESI –</strong> Safe to Climb</p>
 \n<p><strong>UETTDRRF08B –</strong> Perform EWP Controlled Descent Escape<
 /p>\n<p><strong>UETTDRRF03B –</strong> Perform EWP Rescue</p>\n<p>For more
  information or to book this course please visit <a href='https://interlin
 ktraining.com.au/contact-us/'>Contact Us </a></p>\n</BODY></HTML>
END:VEVENT
BEGIN:VEVENT
UID:ai1ec-1593@interlinktraining.com.au
DTSTAMP:20200229T144246Z
CATEGORIES;LANGUAGE=en-US:Queensland
CONTACT:Interlink Loganholme\; 07 3209 6466\; northernbookings@interlinktra
 ining.com.au
DESCRIPTION:Complete the full Power Awareness Course in just 3 days!\nDay 1
 :\nICTWHS203 – Work Safely Near Power Infrastructure\nOM-TN-009 – Optus Te
 chnical Notice\nUETTDREL14A – Work Safely Near Live Electrical Apparatus a
 s a Non Electrical Worker\nDay 2:\nHLTAID001– Provide Cardiopulmonary Resu
 scitation\nUETTDRRF10B – Provide First Aid in an ESI Environment\nHLTAID00
 3 – Provide First Aid\nDay 3:\nVESI – Safe to Climb\nUETTDRRF03B – Perform
  EWP Rescue\nUETTDRRF08B – Perform EWP Controlled Descent Escape\nUETTDRRF
 02B – Perform Pole Top Rescue\n \n*Please Note* This course is subject to 
 change and requires minimum numbers to run\nFor more information or to boo
 k this course please visit Contact Us 
DTSTART;TZID=Australia/Melbourne:20190821T073000
DTEND;TZID=Australia/Melbourne:20190823T153000
LOCATION:Interlink Loganholme\, Queensland @ 51 Chetwynd Street Loganholme
RDATE;TZID=Australia/Melbourne:20190918T073000
RDATE;TZID=Australia/Melbourne:20191016T073000
RDATE;TZID=Australia/Melbourne:20191113T073000
RDATE;TZID=Australia/Melbourne:20191211T073000
SEQUENCE:0
SUMMARY:Power Awareness Initial
URL:https://interlinktraining.com.au/event/power-awareness-initial-2/
X-COST-TYPE:free
X-ALT-DESC;FMTTYPE=text/html:<!DOCTYPE HTML PUBLIC '-//W3C//DTD HTML 3.2//E
 N'>\\n<HTML>\\n<HEAD>\\n<TITLE></TITLE>\\n</HEAD>\\n<BODY><p>Complete the 
 full Power Awareness Course in just 3 days!</p>\n<p><strong>Day 1:</strong
 ></p>\n<p><strong>ICTWHS203</strong> – Work Safely Near Power Infrastructu
 re</p>\n<p><strong>OM-TN-009</strong> – Optus Technical Notice</p>\n<p><st
 rong>UETTDREL14A</strong> – Work Safely Near Live Electrical Apparatus as 
 a Non Electrical Worker</p>\n<p><strong>Day 2:</strong></p>\n<p><strong>HL
 TAID001</strong>– Provide Cardiopulmonary Resuscitation</p>\n<p><strong>UE
 TTDRRF10B</strong> – Provide First Aid in an ESI Environment</p>\n<p><stro
 ng>HLTAID003</strong> – Provide First Aid</p>\n<p><strong>Day 3:</strong><
 /p>\n<p><strong>VESI</strong> – Safe to Climb</p>\n<p><strong>UETTDRRF03B<
 /strong> – Perform EWP Rescue</p>\n<p><strong>UETTDRRF08B</strong> – Perfo
 rm EWP Controlled Descent Escape</p>\n<p><strong>UETTDRRF02B</strong> – Pe
 rform Pole Top Rescue</p>\n<p> </p>\n<p>*Please Note* This course is subje
 ct to change and requires minimum numbers to run</p>\n<p>For more informat
 ion or to book this course please visit <a href='https://interlinktraining
 .com.au/contact-us/'>Contact Us </a></p>\n</BODY></HTML>
END:VEVENT
BEGIN:VEVENT
UID:ai1ec-1615@interlinktraining.com.au
DTSTAMP:20200229T144246Z
CATEGORIES;LANGUAGE=en-US:Victoria
CONTACT:
DESCRIPTION:AHCARB205A/AHCMOM213 – Operate and Maintain Chainsaws\nFWPHAR22
 06/AHCMOM304 – Operate a Mobile Chipper/Mulcher\n \n \n*Please note this c
 ourse is subject to change and requires minimum numbers to run*
DTSTART;TZID=Australia/Melbourne:20190906T073000
DTEND;TZID=Australia/Melbourne:20190906T153000
LOCATION:Interlink Knoxfield\, Victoria @ 31 Henderson Road Knoxfield
RDATE;TZID=Australia/Melbourne:20191018T073000
SEQUENCE:0
SUMMARY:Chainsaw/Chipper Course
URL:https://interlinktraining.com.au/event/chainsaw-chipper-course/
X-COST-TYPE:free
X-ALT-DESC;FMTTYPE=text/html:<!DOCTYPE HTML PUBLIC '-//W3C//DTD HTML 3.2//E
 N'>\\n<HTML>\\n<HEAD>\\n<TITLE></TITLE>\\n</HEAD>\\n<BODY><p>AHCARB205A/AH
 CMOM213 – Operate and Maintain Chainsaws</p>\n<p>FWPHAR2206/AHCMOM304 – Op
 erate a Mobile Chipper/Mulcher</p>\n<p> </p>\n<p> </p>\n<p>*Please note th
 is course is subject to change and requires minimum numbers to run*</p>\n<
 /BODY></HTML>
END:VEVENT
BEGIN:VEVENT
UID:ai1ec-1688@interlinktraining.com.au
DTSTAMP:20200229T144246Z
CATEGORIES;LANGUAGE=en-US:Victoria
CONTACT:Interlink Training\; 03 9759 9033\; southernbookings@interlinktrain
 ing.com.au
DESCRIPTION:CPCCOHS1001A – Work Safely in the Construction Industry (White 
 Card)\nTraining all done on site and face to face.\n 
DTSTART;TZID=Australia/Melbourne:20191022T073000
DTEND;TZID=Australia/Melbourne:20191022T153000
LOCATION:Interlink Training Knoxfield Victoria @ 31 Henderson Road Knoxfiel
 d
RDATE;TZID=Australia/Melbourne:20200316T073000
SEQUENCE:0
SUMMARY:White Card
URL:https://interlinktraining.com.au/event/white-card/
X-COST-TYPE:free
X-ALT-DESC;FMTTYPE=text/html:<!DOCTYPE HTML PUBLIC '-//W3C//DTD HTML 3.2//E
 N'>\\n<HTML>\\n<HEAD>\\n<TITLE></TITLE>\\n</HEAD>\\n<BODY><p>CPCCOHS1001A 
 – Work Safely in the Construction Industry (White Card)</p>\n<p>Training a
 ll done on site and face to face.</p>\n<p> </p>\n</BODY></HTML>
END:VEVENT
BEGIN:VEVENT
UID:ai1ec-1687@interlinktraining.com.au
DTSTAMP:20200229T144246Z
CATEGORIES;LANGUAGE=en-US:Victoria
CONTACT:Interlink Training\; 03 9759 9033\; southernbookings@interlinktrain
 ing.com.au
DESCRIPTION:RIIWHS302D -Implement Traffic Management Plans\nRIIWHS205D- Con
 trol Traffic with a Stop/Slow Bat
DTSTART;TZID=Australia/Melbourne:20191107T073000
DTEND;TZID=Australia/Melbourne:20191107T153000
LOCATION:Interlink Training Knoxfield Victoria @ 31 Henderson Road Knoxfiel
 d
RDATE;TZID=Australia/Melbourne:20200221T073000
RDATE;TZID=Australia/Melbourne:20200320T073000
SEQUENCE:0
SUMMARY:Traffic Management
URL:https://interlinktraining.com.au/event/traffic-management/
X-COST-TYPE:free
X-ALT-DESC;FMTTYPE=text/html:<!DOCTYPE HTML PUBLIC '-//W3C//DTD HTML 3.2//E
 N'>\\n<HTML>\\n<HEAD>\\n<TITLE></TITLE>\\n</HEAD>\\n<BODY><p>RIIWHS302D -I
 mplement Traffic Management Plans</p>\n<p>RIIWHS205D- Control Traffic with
  a Stop/Slow Bat</p>\n</BODY></HTML>
END:VEVENT
END:VCALENDAR
